BEGIN:VCALENDAR
VERSION:2.0
PRODID:-//Refugee Hope Partners - ECPv6.15.20//NONSGML v1.0//EN
CALSCALE:GREGORIAN
METHOD:PUBLISH
X-WR-CALNAME:Refugee Hope Partners
X-ORIGINAL-URL:https://refugeehopepartners.org
X-WR-CALDESC:Events for Refugee Hope Partners
REFRESH-INTERVAL;VALUE=DURATION:PT1H
X-Robots-Tag:noindex
X-PUBLISHED-TTL:PT1H
BEGIN:VTIMEZONE
TZID:America/New_York
BEGIN:DAYLIGHT
TZOFFSETFROM:-0500
TZOFFSETTO:-0400
TZNAME:EDT
DTSTART:20230312T070000
END:DAYLIGHT
BEGIN:STANDARD
TZOFFSETFROM:-0400
TZOFFSETTO:-0500
TZNAME:EST
DTSTART:20231105T060000
END:STANDARD
BEGIN:DAYLIGHT
TZOFFSETFROM:-0500
TZOFFSETTO:-0400
TZNAME:EDT
DTSTART:20240310T070000
END:DAYLIGHT
BEGIN:STANDARD
TZOFFSETFROM:-0400
TZOFFSETTO:-0500
TZNAME:EST
DTSTART:20241103T060000
END:STANDARD
BEGIN:DAYLIGHT
TZOFFSETFROM:-0500
TZOFFSETTO:-0400
TZNAME:EDT
DTSTART:20250309T070000
END:DAYLIGHT
BEGIN:STANDARD
TZOFFSETFROM:-0400
TZOFFSETTO:-0500
TZNAME:EST
DTSTART:20251102T060000
END:STANDARD
END:VTIMEZONE
BEGIN:VEVENT
DTSTART;TZID=America/New_York:20241003T130000
DTEND;TZID=America/New_York:20241003T140000
DTSTAMP:20260424T163907
CREATED:20240823T164716Z
LAST-MODIFIED:20240823T164848Z
UID:71608-1727960400-1727964000@refugeehopepartners.org
SUMMARY:3rd Annual Taste & See : A Night of Community\, Culture\, and Cuisine
DESCRIPTION:NEW Location : New Life Camp\, 9927 Falls of Neuse Rd\, Raleigh NC 27625 \nRefugee Hope Partners invites you to gather you friends\, co-workers\, and family for an evening of cultural diversity and culinary arts from around the world. Immerse yourself into community and learning through cultural exhibits\, entertainment\, and international small plates from a few of Raleigh’s finest restaurants!  \nDont Miss this unique experience to support and meet some of your local refugee neighbors\, while experiencing the taste of international food that will satisfy your tastebuds and leave you wanting more.  \nCheck back soon for more details.  \nTickets go on sale August 15th.
URL:https://refugeehopepartners.org/event/3rd-annual-taste-see-a-night-of-community-culture-and-cuisine/
LOCATION:New Life Camp\, 9927 Falls of Neuse Rd\, Raleigh\, NC\, 27625\, United States
CATEGORIES:Outside Event
ATTACH;FMTTYPE=image/jpeg:https://refugeehopepartners.org/wp-content/uploads/2024/08/TasteandSee.jpg
END:VEVENT
END:VCALENDAR